BEGIN:VCALENDAR
VERSION:2.0
PRODID:spatie/icalendar-generator
DESCRIPTION:Events from Queens Park Daycare
X-WR-CALDESC:Events from Queens Park Daycare
REFRESH-INTERVAL;VALUE=DURATION:PT1440M
X-PUBLISHED-TTL:PT1440M
BEGIN:VTIMEZONE
TZID:America/Vancouver
BEGIN:STANDARD
DTSTART:20141102T020000Z
TZOFFSETFROM:-0700
TZOFFSETTO:-0800
END:STANDARD
BEGIN:DAYLIGHT
DTSTART:20150308T020000Z
TZOFFSETFROM:-0800
TZOFFSETTO:-0700
END:DAYLIGHT
BEGIN:STANDARD
DTSTART:20151101T020000Z
TZOFFSETFROM:-0700
TZOFFSETTO:-0800
END:STANDARD
END:VTIMEZONE
BEGIN:VTIMEZONE
TZID:UTC
BEGIN:STANDARD
DTSTART:20250724T113434Z
TZOFFSETFROM:+0000
TZOFFSETTO:+0000
END:STANDARD
END:VTIMEZONE
BEGIN:VEVENT
UID:20-10
DTSTAMP:20260420T113434Z
SUMMARY:Mother's Day Party
LOCATION:
ORGANIZER;CN=Maria Tomalty:MAILTO:m.tomalty@hotmail.com
DTSTART;TZID=America/Vancouver:20150508T000000
DTEND;TZID=America/Vancouver:20150509T000000
X-ALT-DESC;FMTTYPE=TEXT/HTML:
CATEGORIES:General
URL;VALUE=URI:https://queensparkdaycare.com/mc-events/mothers-day-party/?mc
 _id=20
END:VEVENT
END:VCALENDAR