BEGIN:VCALENDAR
VERSION:2.0
PRODID:spatie/icalendar-generator
DESCRIPTION:Events from Queens Park Daycare
X-WR-CALDESC:Events from Queens Park Daycare
REFRESH-INTERVAL;VALUE=DURATION:PT1440M
X-PUBLISHED-TTL:PT1440M
BEGIN:VTIMEZONE
TZID:America/Vancouver
BEGIN:STANDARD
DTSTART:20141102T020000Z
TZOFFSETFROM:-0700
TZOFFSETTO:-0800
END:STANDARD
BEGIN:DAYLIGHT
DTSTART:20150308T020000Z
TZOFFSETFROM:-0800
TZOFFSETTO:-0700
END:DAYLIGHT
BEGIN:STANDARD
DTSTART:20151101T020000Z
TZOFFSETFROM:-0700
TZOFFSETTO:-0800
END:STANDARD
END:VTIMEZONE
BEGIN:VTIMEZONE
TZID:UTC
BEGIN:STANDARD
DTSTART:20250724T181220Z
TZOFFSETFROM:+0000
TZOFFSETTO:+0000
END:STANDARD
END:VTIMEZONE
BEGIN:VEVENT
UID:11-3
DTSTAMP:20260420T181220Z
SUMMARY:Gymnastics
LOCATION:
ORGANIZER;CN=Maria Tomalty:MAILTO:m.tomalty@hotmail.com
RRULE:FREQ=WEEKLY;COUNT=9
DTSTART;TZID=America/Vancouver:20150526T000000
DTEND;TZID=America/Vancouver:20150527T000000
X-ALT-DESC;FMTTYPE=TEXT/HTML:
CATEGORIES:Field Trip/Outing
URL;VALUE=URI:https://queensparkdaycare.com/mc-events/gymnastics/?mc_id=11
END:VEVENT
END:VCALENDAR